0.2
0
0
-0.2
689430.1
5122019.9
