0.2
0
0
-0.2
698800.1
5130659.9
