0.2
0
0
-0.2
692470.1
5127669.9
