0.2
0
0
-0.2
695680.1
5127779.9
