0.2
0
0
-0.2
689180.1
5130349.9
