0.2
0
0
-0.2
698620.1
5136219.9
