0.2
0
0
-0.2
692210.1
5136009.9
