0.2
0
0
-0.2
692300.1
5133229.9
