0.2
0
0
-0.2
701640.1
5141879.9
