0.2
0
0
-0.2
676580.1
5121620.1
