0.2
0
0
-0.2
676500.1
5124400.1
