0.2
0
0
-0.2
676340.1
5129959.9
