0.2
0
0
-0.2
660300.1
5129509.9
