0.2
0
0
-0.2
653880.1
5129339.9
