0.2
0
0
-0.2
660150.1
5135059.9
