0.2
0
0
-0.2
657020.1
5132199.9
