0.2
0
0
-0.2
666490.1
5138009.9
