0.2
0
0
-0.2
650880.1
5120919.9
