0.2
0
0
-0.2
644380.1
5123539.9
