0.200000
0.000000
0.000000
-0.200000
634810.100000
5120539.900000
