0.2
0
0
-0.2
650670.1
5129259.9
