0.2
0
0
-0.2
644320.1
5126319.9
