0.200000
0.000000
0.000000
-0.200000
637900.100000
5126169.900000
