0.200000
0.000000
0.000000
-0.200000
640920.100000
5134579.900000
