0.200000
0.000000
0.000000
-0.200000
637710.100000
5134499.900000
