0.200000
0.000000
0.000000
-0.200000
631360.100000
5131579.900000
