0.200000
0.000000
0.000000
-0.200000
650460.100000
5137589.900000
