0.200000
0.000000
0.000000
-0.200000
640790.100000
5140129.900000
