0.200000
0.000000
0.000000
-0.200000
627970.100000
5139839.900000
