0.200000
0.000000
0.000000
-0.200000
628030.100000
5137059.900000
