0.200000
0.000000
0.000000
-0.200000
625170.100000
5120329.900000
