0.200000
0.000000
0.000000
-0.200000
625110.100000
5123109.900000
