0.2
0
0
-0.2
618690.1
5122969.9
