0.200000
0.000000
0.000000
-0.200000
621680.100000
5134149.900000
