0.2
0
0
-0.2
624770.1
5139769.9
