0.2
0
0
-0.2
618370.1
5139639.9
