0.2
0
0
-0.2
720660.1
5148109.9
