0.2
0
0
-0.2
707860.1
5147649.9
