0.2
0
0
-0.2
710870.1
5153319.9
