0.2
0
0
-0.2
714060.1
5153429.9
