0.2
0
0
-0.2
707570.1
5155989.9
