0.2
0
0
-0.2
701460.1
5147429.9
