0.2
0
0
-0.2
701370.1
5150209.9
