0.2
0
0
-0.2
701270.1
5152989.9
