0.200000
0.000000
0.000000
-0.200000
653530.100000
5143229.900000
