0.2
0
0
-0.2
669300.1
5151989.9
