0.2
0
0
-0.2
659640.1
5154509.9
