0.2
0
0
-0.2
662760.1
5157369.9
