0.2
0
0
-0.2
650190.1
5148699.9
