0.2
0
0
-0.2
643790.1
5148539.9
